View In:
ArcGIS JavaScript
ArcGIS Online Map Viewer
ArcGIS Earth
ArcMap
View Footprint In:
ArcGIS Online Map Viewer
Service Description: MO/Dunklin_Photography_2022
Name: MO/Dunklin_Photography_2022
Description:
Single Fused Map Cache: false
Extent:
XMin: 735000.0
YMin: 3984800.1
XMax: 775500.0
YMax: 4059800.1
Spatial Reference: 102384
(6344)
LatestVCSWkid(0)
Initial Extent:
XMin: 735000.0
YMin: 3984800.1
XMax: 775500.0
YMax: 4059800.1
Spatial Reference: 102384
(6344)
LatestVCSWkid(0)
Full Extent:
XMin: 735000.0
YMin: 3984800.1
XMax: 775500.0
YMax: 4059800.1
Spatial Reference: 102384
(6344)
LatestVCSWkid(0)
Pixel Size X: 0.3
Pixel Size Y: 0.3
Band Count: 5
Pixel Type: U8
RasterFunction Infos: {"rasterFunctionInfos": [{
"name": "None",
"description": "",
"help": ""
}]}
Mensuration Capabilities: Basic
Has Histograms: true
Has Colormap: false
Has Multi Dimensions : false
Rendering Rule:
Min Scale: 0
Max Scale: 0
Copyright Text:
Service Data Type: esriImageServiceDataTypeGeneric
Min Values: 0, 37, 18, 0, 0
Max Values: 255, 255, 255, 255, 255
Mean Values: 182.43902439024, 180.28886425228, 163.88149790589, 194.71963537817, 150.91056910569
Standard Deviation Values: 64.209531393616, 64.328599496236, 76.586818537598, 56.245659973405, 124.76064942277
Object ID Field:
Fields:
None
Default Mosaic Method: Center
Allowed Mosaic Methods:
SortField:
SortValue: null
Mosaic Operator: First
Default Compression Quality: 75
Default Resampling Method: Bilinear
Max Record Count: null
Max Image Height: 4100
Max Image Width: 15000
Max Download Image Count: null
Max Mosaic Image Count: null
Allow Raster Function: true
Allow Copy: null
Allow Analysis: null
Allow Compute TiePoints: false
Supports Statistics: false
Supports Advanced Queries: false
Use StandardizedQueries: true
Raster Type Infos:
Name: Raster Dataset
Description: Supports all ArcGIS Raster Datasets
Help:
Has Raster Attribute Table: false
Edit Fields Info: null
Ownership Based AccessControl For Rasters: null
Child Resources:
Info
Histograms
Key Properties
Legend
Raster Function Infos
Supported Operations:
Export Image
Identify
Measure
Compute Histograms
Compute Statistics Histograms
Get Samples
Compute Class Statistics
Query Boundary
Compute Pixel Location
Compute Angles
Validate
Project