View In:
ArcGIS JavaScript
ArcGIS Online Map Viewer
ArcGIS Earth
ArcMap
View Footprint In:
ArcGIS Online Map Viewer
Service Description: MO/Frontenac_2022_Photography
Name: MO/Frontenac_2022_Photography
Description:
Single Fused Map Cache: false
Extent:
XMin: 837674.5
YMin: 1005042.0
XMax: 852675.0
YMax: 1030043.0
Spatial Reference: 0
(0)
LatestVCSWkid(0)
Initial Extent:
XMin: 837674.5
YMin: 1005042.0
XMax: 852675.0
YMax: 1030043.0
Spatial Reference: 0
(0)
LatestVCSWkid(0)
Full Extent:
XMin: 837674.5
YMin: 1005042.0
XMax: 852675.0
YMax: 1030043.0
Spatial Reference: 0
(0)
LatestVCSWkid(0)
Pixel Size X: 0.5
Pixel Size Y: 0.5
Band Count: 5
Pixel Type: U8
RasterFunction Infos: {"rasterFunctionInfos": [{
"name": "None",
"description": "",
"help": ""
}]}
Mensuration Capabilities: Basic
Has Histograms: true
Has Colormap: false
Has Multi Dimensions : false
Rendering Rule:
Min Scale: 0
Max Scale: 0
Copyright Text:
Service Data Type: esriImageServiceDataTypeGeneric
Min Values: 7, 30, 22, 0, 255
Max Values: 243, 246, 245, 227, 255
Mean Values: 83.227775856105, 80.641646489104, 69.252161881702, 111.94603943272, 255
Standard Deviation Values: 23.821706799445, 22.774341137302, 21.550461837093, 25.892699471184, 0
Object ID Field:
Fields:
None
Default Mosaic Method: Center
Allowed Mosaic Methods:
SortField:
SortValue: null
Mosaic Operator: First
Default Compression Quality: 75
Default Resampling Method: Bilinear
Max Record Count: null
Max Image Height: 4100
Max Image Width: 15000
Max Download Image Count: null
Max Mosaic Image Count: null
Allow Raster Function: true
Allow Copy: true
Allow Analysis: true
Allow Compute TiePoints: false
Supports Statistics: false
Supports Advanced Queries: false
Use StandardizedQueries: true
Raster Type Infos:
Name: Raster Dataset
Description: Supports all ArcGIS Raster Datasets
Help:
Has Raster Attribute Table: false
Edit Fields Info: null
Ownership Based AccessControl For Rasters: null
Child Resources:
Info
Histograms
Statistics
Key Properties
Legend
Raster Function Infos
Supported Operations:
Export Image
Identify
Measure
Compute Histograms
Compute Statistics Histograms
Get Samples
Compute Class Statistics
Query Boundary
Compute Pixel Location
Compute Angles
Validate
Project