View In:
ArcGIS JavaScript
ArcGIS Online Map Viewer
ArcGIS Earth
ArcMap
View Footprint In:
ArcGIS Online Map Viewer
Service Description: Gasconade 2022
Name: MO/Gasconade_Photography_2022
Description: Gasconade 2022
Single Fused Map Cache: false
Extent:
XMin: 489799.854374
YMin: 842800.5
XMax: 573799.854374
YMax: 1052800.0
Spatial Reference: 102696
(102696)
LatestVCSWkid(0)
Initial Extent:
XMin: 489799.854374
YMin: 842800.5
XMax: 573799.854374
YMax: 1052800.0
Spatial Reference: 102696
(102696)
LatestVCSWkid(0)
Full Extent:
XMin: 489799.854374
YMin: 842800.5
XMax: 573799.854374
YMax: 1052800.0
Spatial Reference: 102696
(102696)
LatestVCSWkid(0)
Pixel Size X: 0.5
Pixel Size Y: 0.5
Band Count: 3
Pixel Type: U8
RasterFunction Infos: {"rasterFunctionInfos": [{
"name": "None",
"description": "",
"help": ""
}]}
Mensuration Capabilities: Basic
Has Histograms: true
Has Colormap: false
Has Multi Dimensions : false
Rendering Rule:
Min Scale: 0
Max Scale: 0
Copyright Text:
Service Data Type: esriImageServiceDataTypeRGB
Min Values: 0, 0, 0
Max Values: 136, 133, 124
Mean Values: 73.944059177069, 75.928340268146, 69.860841423948
Standard Deviation Values: 32.571619803523, 33.146600583695, 30.57213046243
Object ID Field:
Fields:
None
Default Mosaic Method: Center
Allowed Mosaic Methods:
SortField:
SortValue: null
Mosaic Operator: First
Default Compression Quality: 75
Default Resampling Method: Bilinear
Max Record Count: null
Max Image Height: 4100
Max Image Width: 15000
Max Download Image Count: null
Max Mosaic Image Count: null
Allow Raster Function: true
Allow Copy: true
Allow Analysis: true
Allow Compute TiePoints: false
Supports Statistics: false
Supports Advanced Queries: false
Use StandardizedQueries: true
Raster Type Infos:
Name: Raster Dataset
Description: Supports all ArcGIS Raster Datasets
Help:
Has Raster Attribute Table: false
Edit Fields Info: null
Ownership Based AccessControl For Rasters: null
Child Resources:
Info
Histograms
Statistics
Key Properties
Legend
Raster Function Infos
Supported Operations:
Export Image
Identify
Measure
Compute Histograms
Compute Statistics Histograms
Get Samples
Compute Class Statistics
Query Boundary
Compute Pixel Location
Compute Angles
Validate
Project