View In:
ArcGIS JavaScript
ArcGIS Online Map Viewer
ArcGIS Earth
ArcMap
View Footprint In:
ArcGIS Online Map Viewer
Service Description: MO/Holt_Photography_2022
Name: MO/Holt_Photography_2022
Description:
Single Fused Map Cache: false
Extent:
XMin: 2491896.0
YMin: 1345080.0
XMax: 2652936.0
YMax: 1495560.0
Spatial Reference: 102698
(102698)
LatestVCSWkid(0)
Initial Extent:
XMin: 2491896.0
YMin: 1345080.0
XMax: 2652936.0
YMax: 1495560.0
Spatial Reference: 102698
(102698)
LatestVCSWkid(0)
Full Extent:
XMin: 2491896.0
YMin: 1345080.0
XMax: 2652936.0
YMax: 1495560.0
Spatial Reference: 102698
(102698)
LatestVCSWkid(0)
Pixel Size X: 0.25
Pixel Size Y: 0.25
Band Count: 4
Pixel Type: U8
RasterFunction Infos: {"rasterFunctionInfos": [{
"name": "None",
"description": "",
"help": ""
}]}
Mensuration Capabilities: Basic
Has Histograms: true
Has Colormap: false
Has Multi Dimensions : false
Rendering Rule:
Min Scale: 0
Max Scale: 0
Copyright Text:
Service Data Type: esriImageServiceDataTypeGeneric
Min Values: 29, 27, 25, 0
Max Values: 255, 255, 255, 255
Mean Values: 204.58347588094, 189.75573041396, 172.43670886076, 150.0879233664
Standard Deviation Values: 47.664892439017, 57.516835035724, 70.109615657989, 124.37730140279
Object ID Field:
Fields:
None
Default Mosaic Method: Center
Allowed Mosaic Methods:
SortField:
SortValue: null
Mosaic Operator: First
Default Compression Quality: 75
Default Resampling Method: Bilinear
Max Record Count: null
Max Image Height: 4100
Max Image Width: 15000
Max Download Image Count: null
Max Mosaic Image Count: null
Allow Raster Function: true
Allow Copy: true
Allow Analysis: true
Allow Compute TiePoints: false
Supports Statistics: false
Supports Advanced Queries: false
Use StandardizedQueries: true
Raster Type Infos:
Name: Raster Dataset
Description: Supports all ArcGIS Raster Datasets
Help:
Has Raster Attribute Table: false
Edit Fields Info: null
Ownership Based AccessControl For Rasters: null
Child Resources:
Info
Histograms
Statistics
Key Properties
Legend
Raster Function Infos
Supported Operations:
Export Image
Identify
Measure
Compute Histograms
Compute Statistics Histograms
Get Samples
Compute Class Statistics
Query Boundary
Compute Pixel Location
Compute Angles
Validate
Project