View In:
ArcGIS JavaScript
ArcGIS Online Map Viewer
ArcGIS Earth
ArcMap
View Footprint In:
ArcGIS Online Map Viewer
Service Description: MO/Laclede_Photography_2022
Name: MO/Laclede_Photography_2022
Description:
Single Fused Map Cache: false
Extent:
XMin: 1534367.9999999949
YMin: 595319.9968848049
XMax: 1713888.0035903947
YMax: 751080.0000000049
Spatial Reference: 102697
(102697)
LatestVCSWkid(0)
Initial Extent:
XMin: 1534367.9999999949
YMin: 595319.9968848049
XMax: 1713888.0035903947
YMax: 751080.0000000049
Spatial Reference: 102697
(102697)
LatestVCSWkid(0)
Full Extent:
XMin: 1534367.9999999949
YMin: 595319.9968848049
XMax: 1713888.0035903947
YMax: 751080.0000000049
Spatial Reference: 102697
(102697)
LatestVCSWkid(0)
Pixel Size X: 0.16666666999999988
Pixel Size Y: 0.16666666999999996
Band Count: 3
Pixel Type: U8
RasterFunction Infos: {"rasterFunctionInfos": [{
"name": "None",
"description": "",
"help": ""
}]}
Mensuration Capabilities: Basic
Has Histograms: true
Has Colormap: false
Has Multi Dimensions : false
Rendering Rule:
Min Scale: 0
Max Scale: 0
Copyright Text:
Service Data Type: esriImageServiceDataTypeRGB
Min Values: 72, 69, 68
Max Values: 255, 255, 255
Mean Values: 158.17163009404, 144.62434691745, 137.48014629049
Standard Deviation Values: 51.242024735706, 56.6220669597, 59.251503980132
Object ID Field:
Fields:
None
Default Mosaic Method: Center
Allowed Mosaic Methods:
SortField:
SortValue: null
Mosaic Operator: First
Default Compression Quality: 75
Default Resampling Method: Bilinear
Max Record Count: null
Max Image Height: 4100
Max Image Width: 15000
Max Download Image Count: null
Max Mosaic Image Count: null
Allow Raster Function: true
Allow Copy: true
Allow Analysis: true
Allow Compute TiePoints: false
Supports Statistics: false
Supports Advanced Queries: false
Use StandardizedQueries: true
Raster Type Infos:
Name: Raster Dataset
Description: Supports all ArcGIS Raster Datasets
Help:
Has Raster Attribute Table: false
Edit Fields Info: null
Ownership Based AccessControl For Rasters: null
Child Resources:
Info
Histograms
Statistics
Key Properties
Legend
Raster Function Infos
Supported Operations:
Export Image
Identify
Measure
Compute Histograms
Compute Statistics Histograms
Get Samples
Compute Class Statistics
Query Boundary
Compute Pixel Location
Compute Angles
Validate
Project