View In:
ArcGIS JavaScript
ArcGIS Online Map Viewer
ArcGIS Earth
ArcMap
View Footprint In:
ArcGIS Online Map Viewer
Service Description: MO/Linn_Aerial_Photography_2023
Name: MO/Linn_Aerial_Photography_2023
Description:
Single Fused Map Cache: false
Extent:
XMin: 1397088.0
YMin: 1405800.0
XMax: 1544928.0
YMax: 1532520.0
Spatial Reference: 102697
(102697)
LatestVCSWkid(0)
Initial Extent:
XMin: 1397088.0
YMin: 1405800.0
XMax: 1544928.0
YMax: 1532520.0
Spatial Reference: 102697
(102697)
LatestVCSWkid(0)
Full Extent:
XMin: 1397088.0
YMin: 1405800.0
XMax: 1544928.0
YMax: 1532520.0
Spatial Reference: 102697
(102697)
LatestVCSWkid(0)
Pixel Size X: 0.25
Pixel Size Y: 0.25
Band Count: 4
Pixel Type: U8
RasterFunction Infos: {"rasterFunctionInfos": [{
"name": "None",
"description": "",
"help": ""
}]}
Mensuration Capabilities: Basic
Has Histograms: true
Has Colormap: false
Has Multi Dimensions : false
Rendering Rule:
Min Scale: 0
Max Scale: 0
Copyright Text:
Service Data Type: esriImageServiceDataTypeGeneric
Min Values: 88, 71, 29, 0
Max Values: 255, 255, 255, 255
Mean Values: 151.28634555899, 135.47260273973, 101.12571807335, 246.9244365886
Standard Deviation Values: 22.954983401425, 25.083211506914, 29.471277937122, 43.118766803629
Object ID Field:
Fields:
None
Default Mosaic Method: Center
Allowed Mosaic Methods:
SortField:
SortValue: null
Mosaic Operator: First
Default Compression Quality: 75
Default Resampling Method: Bilinear
Max Record Count: null
Max Image Height: 4100
Max Image Width: 15000
Max Download Image Count: null
Max Mosaic Image Count: null
Allow Raster Function: true
Allow Copy: null
Allow Analysis: null
Allow Compute TiePoints: false
Supports Statistics: false
Supports Advanced Queries: false
Use StandardizedQueries: true
Raster Type Infos:
Name: Raster Dataset
Description: Supports all ArcGIS Raster Datasets
Help:
Has Raster Attribute Table: false
Edit Fields Info: null
Ownership Based AccessControl For Rasters: null
Child Resources:
Info
Histograms
Key Properties
Legend
Raster Function Infos
Supported Operations:
Export Image
Identify
Measure
Compute Histograms
Compute Statistics Histograms
Get Samples
Compute Class Statistics
Query Boundary
Compute Pixel Location
Compute Angles
Validate
Project