View In:
ArcGIS JavaScript
ArcGIS Online Map Viewer
ArcGIS Earth
ArcMap
View Footprint In:
ArcGIS Online Map Viewer
Service Description: MO/Morgan_Photography_2016
Name: MO/Morgan_Photography_2016
Description:
Single Fused Map Cache: false
Extent:
XMin: 1474303.5
YMin: 856616.25
XMax: 1607345.25
YMax: 1041772.5
Spatial Reference: 102697
(102697)
LatestVCSWkid(0)
Initial Extent:
XMin: 1474303.5
YMin: 856616.25
XMax: 1607345.25
YMax: 1041772.5
Spatial Reference: 102697
(102697)
LatestVCSWkid(0)
Full Extent:
XMin: 1474303.5
YMin: 856616.25
XMax: 1607345.25
YMax: 1041772.5
Spatial Reference: 102697
(102697)
LatestVCSWkid(0)
Pixel Size X: 0.25
Pixel Size Y: 0.25
Band Count: 3
Pixel Type: U8
RasterFunction Infos: {"rasterFunctionInfos": [{
"name": "None",
"description": "",
"help": ""
}]}
Mensuration Capabilities: Basic
Has Histograms: true
Has Colormap: false
Has Multi Dimensions : false
Rendering Rule:
Min Scale: 0
Max Scale: 0
Copyright Text:
Service Data Type: esriImageServiceDataTypeRGB
Min Values: 53, 46, 0
Max Values: 255, 255, 255
Mean Values: 168.27945900254, 152.86897717667, 131.11174978867
Standard Deviation Values: 51.846344693079, 59.653620432065, 70.62452373692
Object ID Field:
Fields:
None
Default Mosaic Method: Center
Allowed Mosaic Methods:
SortField:
SortValue: null
Mosaic Operator: First
Default Compression Quality: 75
Default Resampling Method: Bilinear
Max Record Count: null
Max Image Height: 4100
Max Image Width: 15000
Max Download Image Count: null
Max Mosaic Image Count: null
Allow Raster Function: true
Allow Copy: true
Allow Analysis: true
Allow Compute TiePoints: false
Supports Statistics: false
Supports Advanced Queries: false
Use StandardizedQueries: true
Raster Type Infos:
Name: Raster Dataset
Description: Supports all ArcGIS Raster Datasets
Help:
Has Raster Attribute Table: false
Edit Fields Info: null
Ownership Based AccessControl For Rasters: null
Child Resources:
Info
Histograms
Statistics
Key Properties
Legend
Raster Function Infos
Supported Operations:
Export Image
Identify
Measure
Compute Histograms
Compute Statistics Histograms
Get Samples
Compute Class Statistics
Query Boundary
Compute Pixel Location
Compute Angles
Validate
Project