View In:
ArcGIS JavaScript
ArcGIS Online Map Viewer
ArcGIS Earth
ArcMap
View Footprint In:
ArcGIS Online Map Viewer
Service Description: MO/Phelps_Photgraphy_2023
Name: MO/Phelps_Photgraphy_2023
Description:
Single Fused Map Cache: false
Extent:
XMin: 1773515.5
YMin: 642260.0
XMax: 1922197.5
YMax: 849299.0
Spatial Reference: 102697
(102697)
LatestVCSWkid(0)
Initial Extent:
XMin: 1773515.5
YMin: 642260.0
XMax: 1922197.5
YMax: 849299.0
Spatial Reference: 102697
(102697)
LatestVCSWkid(0)
Full Extent:
XMin: 1773515.5
YMin: 642260.0
XMax: 1922197.5
YMax: 849299.0
Spatial Reference: 102697
(102697)
LatestVCSWkid(0)
Pixel Size X: 0.25
Pixel Size Y: 0.25
Band Count: 4
Pixel Type: U8
RasterFunction Infos: {"rasterFunctionInfos": [{
"name": "None",
"description": "",
"help": ""
}]}
Mensuration Capabilities: Basic
Has Histograms: true
Has Colormap: false
Has Multi Dimensions : false
Rendering Rule:
Min Scale: 0
Max Scale: 0
Copyright Text:
Service Data Type: esriImageServiceDataTypeGeneric
Min Values: 0, 0, 0, 0
Max Values: 195, 175, 144, 255
Mean Values: 83.171367177008, 73.53344077357, 61.441579371475, 162.29626645179
Standard Deviation Values: 63.400554542858, 56.132148064784, 46.844549057426, 121.37072823074
Object ID Field:
Fields:
None
Default Mosaic Method: Center
Allowed Mosaic Methods:
SortField:
SortValue: null
Mosaic Operator: First
Default Compression Quality: 75
Default Resampling Method: Bilinear
Max Record Count: null
Max Image Height: 4100
Max Image Width: 15000
Max Download Image Count: null
Max Mosaic Image Count: null
Allow Raster Function: true
Allow Copy: true
Allow Analysis: true
Allow Compute TiePoints: false
Supports Statistics: false
Supports Advanced Queries: false
Use StandardizedQueries: true
Raster Type Infos:
Name: Raster Dataset
Description: Supports all ArcGIS Raster Datasets
Help:
Has Raster Attribute Table: false
Edit Fields Info: null
Ownership Based AccessControl For Rasters: null
Child Resources:
Info
Histograms
Statistics
Key Properties
Legend
Raster Function Infos
Supported Operations:
Export Image
Identify
Measure
Compute Histograms
Compute Statistics Histograms
Get Samples
Compute Class Statistics
Query Boundary
Compute Pixel Location
Compute Angles
Validate
Project