View In:
ArcGIS JavaScript
ArcGIS Online Map Viewer
ArcGIS Earth
ArcMap
View Footprint In:
ArcGIS Online Map Viewer
Service Description: MO/Ralls_Photography_2022
Name: MO/Ralls_Photography_2022
Description:
Single Fused Map Cache: false
Extent:
XMin: 474400.0
YMin: 1268500.0
XMax: 630400.0
YMax: 1406500.0
Spatial Reference: 102696
(102696)
LatestVCSWkid(0)
Initial Extent:
XMin: 474400.0
YMin: 1268500.0
XMax: 630400.0
YMax: 1406500.0
Spatial Reference: 102696
(102696)
LatestVCSWkid(0)
Full Extent:
XMin: 474400.0
YMin: 1268500.0
XMax: 630400.0
YMax: 1406500.0
Spatial Reference: 102696
(102696)
LatestVCSWkid(0)
Pixel Size X: 0.5
Pixel Size Y: 0.5
Band Count: 4
Pixel Type: U8
RasterFunction Infos: {"rasterFunctionInfos": [{
"name": "None",
"description": "",
"help": ""
}]}
Mensuration Capabilities: Basic
Has Histograms: true
Has Colormap: false
Has Multi Dimensions : false
Rendering Rule:
Min Scale: 0
Max Scale: 0
Copyright Text:
Service Data Type: esriImageServiceDataTypeGeneric
Min Values: 0, 0, 0, 0
Max Values: 169, 166, 148, 255
Mean Values: 71.613254392666, 69.79679144385, 56.369938884645, 175.80691367456
Standard Deviation Values: 54.655543068478, 53.052393827716, 43.133634150517, 117.11769542511
Object ID Field:
Fields:
None
Default Mosaic Method: Center
Allowed Mosaic Methods:
SortField:
SortValue: null
Mosaic Operator: First
Default Compression Quality: 75
Default Resampling Method: Bilinear
Max Record Count: null
Max Image Height: 4100
Max Image Width: 15000
Max Download Image Count: null
Max Mosaic Image Count: null
Allow Raster Function: true
Allow Copy: true
Allow Analysis: true
Allow Compute TiePoints: false
Supports Statistics: false
Supports Advanced Queries: false
Use StandardizedQueries: true
Raster Type Infos:
Name: Raster Dataset
Description: Supports all ArcGIS Raster Datasets
Help:
Has Raster Attribute Table: false
Edit Fields Info: null
Ownership Based AccessControl For Rasters: null
Child Resources:
Info
Histograms
Statistics
Key Properties
Legend
Raster Function Infos
Supported Operations:
Export Image
Identify
Measure
Compute Histograms
Compute Statistics Histograms
Get Samples
Compute Class Statistics
Query Boundary
Compute Pixel Location
Compute Angles
Validate
Project