View In:
ArcGIS JavaScript
ArcGIS Online Map Viewer
ArcGIS Earth
ArcMap
View Footprint In:
ArcGIS Online Map Viewer
Service Description: MO/Stone_Photography_2023
Name: MO/Stone_Photography_2023
Description:
Single Fused Map Cache: false
Extent:
XMin: 1312608.000000005
YMin: 241560.001847995
XMax: 1405007.9990760048
YMax: 426359.999999995
Spatial Reference: 102697
(102697)
LatestVCSWkid(0)
Initial Extent:
XMin: 1312608.000000005
YMin: 241560.001847995
XMax: 1405007.9990760048
YMax: 426359.999999995
Spatial Reference: 102697
(102697)
LatestVCSWkid(0)
Full Extent:
XMin: 1312608.000000005
YMin: 241560.001847995
XMax: 1405007.9990760048
YMax: 426359.999999995
Spatial Reference: 102697
(102697)
LatestVCSWkid(0)
Pixel Size X: 0.3333333299999998
Pixel Size Y: 0.33333333
Band Count: 4
Pixel Type: U8
RasterFunction Infos: {"rasterFunctionInfos": [{
"name": "None",
"description": "",
"help": ""
}]}
Mensuration Capabilities: Basic
Has Histograms: true
Has Colormap: false
Has Multi Dimensions : false
Rendering Rule:
Min Scale: 0
Max Scale: 0
Copyright Text:
Service Data Type: esriImageServiceDataTypeGeneric
Min Values: 0, 14, 5, 0
Max Values: 255, 255, 255, 255
Mean Values: 147.74621539792, 134.98799740484, 110.13321799308, 223.52086937716
Standard Deviation Values: 47.379136624894, 48.609200971488, 55.681156653338, 82.40195362164
Object ID Field:
Fields:
None
Default Mosaic Method: Center
Allowed Mosaic Methods:
SortField:
SortValue: null
Mosaic Operator: First
Default Compression Quality: 75
Default Resampling Method: Bilinear
Max Record Count: null
Max Image Height: 4100
Max Image Width: 15000
Max Download Image Count: null
Max Mosaic Image Count: null
Allow Raster Function: true
Allow Copy: true
Allow Analysis: true
Allow Compute TiePoints: false
Supports Statistics: false
Supports Advanced Queries: false
Use StandardizedQueries: true
Raster Type Infos:
Name: Raster Dataset
Description: Supports all ArcGIS Raster Datasets
Help:
Has Raster Attribute Table: false
Edit Fields Info: null
Ownership Based AccessControl For Rasters: null
Child Resources:
Info
Histograms
Statistics
Key Properties
Legend
Raster Function Infos
Supported Operations:
Export Image
Identify
Measure
Compute Histograms
Compute Statistics Histograms
Get Samples
Compute Class Statistics
Query Boundary
Compute Pixel Location
Compute Angles
Validate
Project