View In:
ArcGIS JavaScript
ArcGIS Online Map Viewer
ArcGIS Earth
ArcMap
View Footprint In:
ArcGIS Online Map Viewer
Service Description: MO/Warren_2023_Mosaic_Gen4_STPL_sid
Name: MO/Warren_2023_Mosaic_Gen4_STPL_sid
Description:
Single Fused Map Cache: false
Extent:
XMin: 551480.25
YMin: 982806.25
XMax: 693806.25
YMax: 1153842.75
Spatial Reference: 102696
(102696)
LatestVCSWkid(0)
Initial Extent:
XMin: 551480.25
YMin: 982806.25
XMax: 693806.25
YMax: 1153842.75
Spatial Reference: 102696
(102696)
LatestVCSWkid(0)
Full Extent:
XMin: 551480.25
YMin: 982806.25
XMax: 693806.25
YMax: 1153842.75
Spatial Reference: 102696
(102696)
LatestVCSWkid(0)
Pixel Size X: 0.5
Pixel Size Y: 0.5
Band Count: 5
Pixel Type: U8
RasterFunction Infos: {"rasterFunctionInfos": [{
"name": "None",
"description": "",
"help": ""
}]}
Mensuration Capabilities: Basic
Has Histograms: true
Has Colormap: false
Has Multi Dimensions : false
Rendering Rule:
Min Scale: 0
Max Scale: 0
Copyright Text:
Service Data Type: esriImageServiceDataTypeGeneric
Min Values: 0, 0, 0, 0, 0
Max Values: 202, 185, 178, 232, 255
Mean Values: 55.620238095238, 55.923469387755, 46.62193877551, 78.558843537415, 145.82023809524
Standard Deviation Values: 51.792421555239, 50.555804623808, 43.009962795177, 70.990535011702, 124.96125045081
Object ID Field:
Fields:
None
Default Mosaic Method: Center
Allowed Mosaic Methods:
SortField:
SortValue: null
Mosaic Operator: First
Default Compression Quality: 75
Default Resampling Method: Bilinear
Max Record Count: null
Max Image Height: 4100
Max Image Width: 15000
Max Download Image Count: null
Max Mosaic Image Count: null
Allow Raster Function: true
Allow Copy: true
Allow Analysis: true
Allow Compute TiePoints: false
Supports Statistics: false
Supports Advanced Queries: false
Use StandardizedQueries: true
Raster Type Infos:
Name: Raster Dataset
Description: Supports all ArcGIS Raster Datasets
Help:
Has Raster Attribute Table: false
Edit Fields Info: null
Ownership Based AccessControl For Rasters: null
Child Resources:
Info
Histograms
Statistics
Key Properties
Legend
Raster Function Infos
Supported Operations:
Export Image
Identify
Measure
Compute Histograms
Compute Statistics Histograms
Get Samples
Compute Class Statistics
Query Boundary
Compute Pixel Location
Compute Angles
Validate
Project