View In:
ArcGIS JavaScript
ArcGIS Online Map Viewer
ArcGIS Earth
ArcMap
View Footprint In:
ArcGIS Online Map Viewer
Service Description: Greer County OK Naip Aerials 2023
Name: OK/Greer_Photography_2023
Description: Greer County OK Naip Aerials 2023
Single Fused Map Cache: false
Extent:
XMin: -99.94295680638446
YMin: 34.68176757518877
XMax: -99.18380065743779
YMax: 35.13028644928998
Spatial Reference: 4326
(4326)
LatestVCSWkid(0)
Initial Extent:
XMin: -99.94295680638446
YMin: 34.68176757518877
XMax: -99.18380065743779
YMax: 35.13028644928998
Spatial Reference: 4326
(4326)
LatestVCSWkid(0)
Full Extent:
XMin: -99.94295680638446
YMin: 34.68176757518877
XMax: -99.18380065743779
YMax: 35.13028644928998
Spatial Reference: 4326
(4326)
LatestVCSWkid(0)
Pixel Size X: 2.979162509307174E-6
Pixel Size Y: 2.979162509307156E-6
Band Count: 3
Pixel Type: U8
RasterFunction Infos: {"rasterFunctionInfos": [{
"name": "None",
"description": "",
"help": ""
}]}
Mensuration Capabilities: Basic
Has Histograms: true
Has Colormap: false
Has Multi Dimensions : false
Rendering Rule:
Min Scale: 0
Max Scale: 0
Copyright Text:
Service Data Type: esriImageServiceDataTypeRGB
Min Values: 0, 0, 0
Max Values: 234, 202, 189
Mean Values: 88.516216216216, 83.629621621622, 61.132972972973
Standard Deviation Values: 63.312819305301, 57.465628818734, 42.818407816244
Object ID Field:
Fields:
None
Default Mosaic Method: Center
Allowed Mosaic Methods:
SortField:
SortValue: null
Mosaic Operator: First
Default Compression Quality: 75
Default Resampling Method: Bilinear
Max Record Count: null
Max Image Height: 4100
Max Image Width: 15000
Max Download Image Count: null
Max Mosaic Image Count: null
Allow Raster Function: true
Allow Copy: null
Allow Analysis: null
Allow Compute TiePoints: false
Supports Statistics: false
Supports Advanced Queries: false
Use StandardizedQueries: true
Raster Type Infos:
Name: Raster Dataset
Description: Supports all ArcGIS Raster Datasets
Help:
Has Raster Attribute Table: false
Edit Fields Info: null
Ownership Based AccessControl For Rasters: null
Child Resources:
Info
Histograms
Key Properties
Legend
Raster Function Infos
Supported Operations:
Export Image
Identify
Measure
Compute Histograms
Compute Statistics Histograms
Get Samples
Compute Class Statistics
Query Boundary
Compute Pixel Location
Compute Angles
Validate
Project