View In:
ArcGIS JavaScript
ArcGIS Online Map Viewer
ArcGIS Earth
ArcMap
View Footprint In:
ArcGIS Online Map Viewer
Service Description: OK/Nowata_Photography_2024
Name: OK/Nowata_Photography_2024
Description:
Single Fused Map Cache: false
Extent:
XMin: 2606369.017718672
YMin: 586639.37540416
XMax: 2730814.017718672
YMax: 738950.37540416
Spatial Reference: 102724
(2267)
LatestVCSWkid(0)
Initial Extent:
XMin: 2606369.017718672
YMin: 586639.37540416
XMax: 2730814.017718672
YMax: 738950.37540416
Spatial Reference: 102724
(2267)
LatestVCSWkid(0)
Full Extent:
XMin: 2606369.017718672
YMin: 586639.37540416
XMax: 2730814.017718672
YMax: 738950.37540416
Spatial Reference: 102724
(2267)
LatestVCSWkid(0)
Pixel Size X: 1.0
Pixel Size Y: 1.0
Band Count: 5
Pixel Type: U8
RasterFunction Infos: {"rasterFunctionInfos": [{
"name": "None",
"description": "",
"help": ""
}]}
Mensuration Capabilities: Basic
Has Histograms: true
Has Colormap: false
Has Multi Dimensions : false
Rendering Rule:
Min Scale: 0
Max Scale: 0
Copyright Text:
Service Data Type: esriImageServiceDataTypeGeneric
Min Values: 0, 0, 0, 0, 0
Max Values: 174, 165, 137, 199, 255
Mean Values: 104.55956284153, 101.33530054645, 84.761967213115, 130.47781420765, 235.03781420765
Standard Deviation Values: 33.449067452922, 31.499055928126, 26.182377514369, 39.959912967906, 65.378963308619
Object ID Field:
Fields:
None
Default Mosaic Method: Center
Allowed Mosaic Methods:
SortField:
SortValue: null
Mosaic Operator: First
Default Compression Quality: 75
Default Resampling Method: Bilinear
Max Record Count: null
Max Image Height: 4100
Max Image Width: 15000
Max Download Image Count: null
Max Mosaic Image Count: null
Allow Raster Function: true
Allow Copy: null
Allow Analysis: null
Allow Compute TiePoints: false
Supports Statistics: false
Supports Advanced Queries: false
Use StandardizedQueries: true
Raster Type Infos:
Name: Raster Dataset
Description: Supports all ArcGIS Raster Datasets
Help:
Has Raster Attribute Table: false
Edit Fields Info: null
Ownership Based AccessControl For Rasters: null
Child Resources:
Info
Histograms
Key Properties
Legend
Raster Function Infos
Supported Operations:
Export Image
Identify
Measure
Compute Histograms
Compute Statistics Histograms
Get Samples
Compute Class Statistics
Query Boundary
Compute Pixel Location
Compute Angles
Validate
Project