View In:
ArcGIS JavaScript
ArcGIS Online Map Viewer
ArcGIS Earth
ArcMap
View Footprint In:
ArcGIS Online Map Viewer
Service Description: Pottawatomie County OK NAIP 2023 Aerials
Name: OK/Pottawatomie_Photography_2023
Description: Pottawatomie County OK NAIP 2023 Aerials
Single Fused Map Cache: false
Extent:
XMin: -97.20466898632566
YMin: 34.86161099671864
XMax: -96.5553527902128
YMax: 35.51375933761953
Spatial Reference: 4326
(4326)
LatestVCSWkid(0)
Initial Extent:
XMin: -97.20466898632566
YMin: 34.86161099671864
XMax: -96.5553527902128
YMax: 35.51375933761953
Spatial Reference: 4326
(4326)
LatestVCSWkid(0)
Full Extent:
XMin: -97.20466898632566
YMin: 34.86161099671864
XMax: -96.5553527902128
YMax: 35.51375933761953
Spatial Reference: 4326
(4326)
LatestVCSWkid(0)
Pixel Size X: 2.9843464573564097E-6
Pixel Size Y: 2.984346457356405E-6
Band Count: 3
Pixel Type: U8
RasterFunction Infos: {"rasterFunctionInfos": [{
"name": "None",
"description": "",
"help": ""
}]}
Mensuration Capabilities: Basic
Has Histograms: true
Has Colormap: false
Has Multi Dimensions : false
Rendering Rule:
Min Scale: 0
Max Scale: 0
Copyright Text:
Service Data Type: esriImageServiceDataTypeRGB
Min Values: 0, 0, 0
Max Values: 186, 178, 166
Mean Values: 67.674211248285, 81.741083676269, 58.786008230453
Standard Deviation Values: 46.651395578545, 53.736004073666, 39.170656784476
Object ID Field:
Fields:
None
Default Mosaic Method: Center
Allowed Mosaic Methods:
SortField:
SortValue: null
Mosaic Operator: First
Default Compression Quality: 75
Default Resampling Method: Bilinear
Max Record Count: null
Max Image Height: 4100
Max Image Width: 15000
Max Download Image Count: null
Max Mosaic Image Count: null
Allow Raster Function: true
Allow Copy: null
Allow Analysis: null
Allow Compute TiePoints: false
Supports Statistics: false
Supports Advanced Queries: false
Use StandardizedQueries: true
Raster Type Infos:
Name: Raster Dataset
Description: Supports all ArcGIS Raster Datasets
Help:
Has Raster Attribute Table: false
Edit Fields Info: null
Ownership Based AccessControl For Rasters: null
Child Resources:
Info
Histograms
Key Properties
Legend
Raster Function Infos
Supported Operations:
Export Image
Identify
Measure
Compute Histograms
Compute Statistics Histograms
Get Samples
Compute Class Statistics
Query Boundary
Compute Pixel Location
Compute Angles
Validate
Project