View In:
ArcGIS JavaScript
ArcGIS Online Map Viewer
ArcGIS Earth
ArcMap
View Footprint In:
ArcGIS Online Map Viewer
Service Description: OK/Pottawtaomie_2025Naip
Name: OK/Pottawtaomie_2025Naip
Description:
Single Fused Map Cache: false
Extent:
XMin: 664376.9999999999
YMin: 3860666.9999882383
XMax: 721442.9999999999
YMax: 3931239.0000000005
Spatial Reference: 26914
(26914)
LatestVCSWkid(0)
Initial Extent:
XMin: 664376.9999999999
YMin: 3860666.9999882383
XMax: 721442.9999999999
YMax: 3931239.0000000005
Spatial Reference: 26914
(26914)
LatestVCSWkid(0)
Full Extent:
XMin: 664376.9999999999
YMin: 3860666.9999882383
XMax: 721442.9999999999
YMax: 3931239.0000000005
Spatial Reference: 26914
(26914)
LatestVCSWkid(0)
Pixel Size X: 0.6
Pixel Size Y: 0.6000000001000012
Band Count: 5
Pixel Type: U8
RasterFunction Infos: {"rasterFunctionInfos": [{
"name": "None",
"description": "",
"help": ""
}]}
Mensuration Capabilities: Basic
Has Histograms: true
Has Colormap: false
Has Multi Dimensions : false
Rendering Rule:
Min Scale: 0
Max Scale: 0
Copyright Text:
Service Data Type: esriImageServiceDataTypeGeneric
Min Values: 0, 0, 0, 0, 0
Max Values: 216, 195, 179, 247, 255
Mean Values: 98.008437270726, 97.8301540719, 74.797505502568, 140.58547322084, 188.41195891416
Standard Deviation Values: 58.674146504778, 57.957400683262, 44.722607264417, 82.748688261076, 109.89968474954
Object ID Field:
Fields:
None
Default Mosaic Method: Center
Allowed Mosaic Methods:
SortField:
SortValue: null
Mosaic Operator: First
Default Compression Quality: 75
Default Resampling Method: Bilinear
Max Record Count: null
Max Image Height: 4100
Max Image Width: 15000
Max Download Image Count: null
Max Mosaic Image Count: null
Allow Raster Function: true
Allow Copy: true
Allow Analysis: true
Allow Compute TiePoints: false
Supports Statistics: false
Supports Advanced Queries: false
Use StandardizedQueries: true
Raster Type Infos:
Name: Raster Dataset
Description: Supports all ArcGIS Raster Datasets
Help:
Has Raster Attribute Table: false
Edit Fields Info: null
Ownership Based AccessControl For Rasters: null
Child Resources:
Info
Histograms
Statistics
Key Properties
Legend
Raster Function Infos
Supported Operations:
Export Image
Identify
Measure
Compute Histograms
Compute Statistics Histograms
Get Samples
Compute Class Statistics
Query Boundary
Compute Pixel Location
Compute Angles
Validate
Project