View In:
ArcGIS JavaScript
ArcGIS Online Map Viewer
ArcGIS Earth
ArcMap
View Footprint In:
ArcGIS Online Map Viewer
Service Description: KS/Colby_2021_Photography
Name: KS/Colby_2021_Photography
Description:
Single Fused Map Cache: false
Extent:
XMin: 427535.0
YMin: 347931.0
XMax: 465930.0
YMax: 440131.0
Spatial Reference: 0
(0)
LatestVCSWkid(0)
Initial Extent:
XMin: 427535.0
YMin: 347931.0
XMax: 465930.0
YMax: 440131.0
Spatial Reference: 0
(0)
LatestVCSWkid(0)
Full Extent:
XMin: 427535.0
YMin: 347931.0
XMax: 465930.0
YMax: 440131.0
Spatial Reference: 0
(0)
LatestVCSWkid(0)
Pixel Size X: 1.0
Pixel Size Y: 1.0
Band Count: 5
Pixel Type: U8
RasterFunction Infos: {"rasterFunctionInfos": [{
"name": "None",
"description": "",
"help": ""
}]}
Mensuration Capabilities: Basic
Has Histograms: true
Has Colormap: false
Has Multi Dimensions : false
Rendering Rule:
Min Scale: 0
Max Scale: 0
Copyright Text:
Service Data Type: esriImageServiceDataTypeGeneric
Min Values: 0, 0, 0, 0, 0
Max Values: 221, 203, 173, 201, 255
Mean Values: 143.45720069404, 132.28224407172, 113.497686524, 143.77414690573, 243.6003470214
Standard Deviation Values: 40.695508317916, 36.432617353486, 31.885515283172, 34.618647077649, 50.495433483195
Object ID Field:
Fields:
None
Default Mosaic Method: Center
Allowed Mosaic Methods:
SortField:
SortValue: null
Mosaic Operator: First
Default Compression Quality: 75
Default Resampling Method: Bilinear
Max Record Count: null
Max Image Height: 4100
Max Image Width: 15000
Max Download Image Count: null
Max Mosaic Image Count: null
Allow Raster Function: true
Allow Copy: true
Allow Analysis: true
Allow Compute TiePoints: false
Supports Statistics: false
Supports Advanced Queries: false
Use StandardizedQueries: true
Raster Type Infos:
Name: Raster Dataset
Description: Supports all ArcGIS Raster Datasets
Help:
Has Raster Attribute Table: false
Edit Fields Info: null
Ownership Based AccessControl For Rasters: null
Child Resources:
Info
Histograms
Statistics
Key Properties
Legend
Raster Function Infos
Supported Operations:
Export Image
Identify
Measure
Compute Histograms
Compute Statistics Histograms
Get Samples
Compute Class Statistics
Query Boundary
Compute Pixel Location
Compute Angles
Validate
Project