View In:
ArcGIS JavaScript
ArcGIS Online Map Viewer
ArcGIS Earth
ArcMap
View Footprint In:
ArcGIS Online Map Viewer
Service Description: KS/Ft_Scott_2021_Photography
Name: KS/Ft_Scott_2021_Photography
Description:
Single Fused Map Cache: false
Extent:
XMin: 2358367.0
YMin: 1727169.0
XMax: 2432358.0
YMax: 1775553.0
Spatial Reference: 102678
(3420)
LatestVCSWkid(0)
Initial Extent:
XMin: 2358367.0
YMin: 1727169.0
XMax: 2432358.0
YMax: 1775553.0
Spatial Reference: 102678
(3420)
LatestVCSWkid(0)
Full Extent:
XMin: 2358367.0
YMin: 1727169.0
XMax: 2432358.0
YMax: 1775553.0
Spatial Reference: 102678
(3420)
LatestVCSWkid(0)
Pixel Size X: 1.0
Pixel Size Y: 1.0
Band Count: 5
Pixel Type: U8
RasterFunction Infos: {"rasterFunctionInfos": [{
"name": "None",
"description": "",
"help": ""
}]}
Mensuration Capabilities: Basic
Has Histograms: true
Has Colormap: false
Has Multi Dimensions : false
Rendering Rule:
Min Scale: 0
Max Scale: 0
Copyright Text:
Service Data Type: esriImageServiceDataTypeGeneric
Min Values: 0, 0, 0, 0, 0
Max Values: 231, 213, 200, 225, 255
Mean Values: 117.43007990868, 112.41010273973, 94.691210045662, 130.80821917808, 245.22888127854
Standard Deviation Values: 34.982835278874, 31.910153559921, 26.83016669928, 39.777983757423, 47.466914809035
Object ID Field:
Fields:
None
Default Mosaic Method: Center
Allowed Mosaic Methods:
SortField:
SortValue: null
Mosaic Operator: First
Default Compression Quality: 75
Default Resampling Method: Bilinear
Max Record Count: null
Max Image Height: 4100
Max Image Width: 15000
Max Download Image Count: null
Max Mosaic Image Count: null
Allow Raster Function: true
Allow Copy: true
Allow Analysis: true
Allow Compute TiePoints: false
Supports Statistics: false
Supports Advanced Queries: false
Use StandardizedQueries: true
Raster Type Infos:
Name: Raster Dataset
Description: Supports all ArcGIS Raster Datasets
Help:
Has Raster Attribute Table: false
Edit Fields Info: null
Ownership Based AccessControl For Rasters: null
Child Resources:
Info
Histograms
Statistics
Key Properties
Legend
Raster Function Infos
Supported Operations:
Export Image
Identify
Measure
Compute Histograms
Compute Statistics Histograms
Get Samples
Compute Class Statistics
Query Boundary
Compute Pixel Location
Compute Angles
Validate
Project