View In:
ArcGIS JavaScript
ArcGIS Online Map Viewer
ArcGIS Earth
ArcMap
View Footprint In:
ArcGIS Online Map Viewer
Service Description: KS/Harvey_County_2021
Name: KS/Harvey_County_2021
Description:
Single Fused Map Cache: false
Extent:
XMin: 1527708.0
YMin: 1798699.0
XMax: 1636489.0
YMax: 1890816.0
Spatial Reference: 102678
(3420)
VCSWkid(115700)
LatestVCSWkid(115700)
Initial Extent:
XMin: 1527708.0
YMin: 1798699.0
XMax: 1636489.0
YMax: 1890816.0
Spatial Reference: 102678
(3420)
VCSWkid(115700)
LatestVCSWkid(115700)
Full Extent:
XMin: 1527708.0
YMin: 1798699.0
XMax: 1636489.0
YMax: 1890816.0
Spatial Reference: 102678
(3420)
VCSWkid(115700)
LatestVCSWkid(115700)
Pixel Size X: 1.0
Pixel Size Y: 1.0
Band Count: 5
Pixel Type: U8
RasterFunction Infos: {"rasterFunctionInfos": [{
"name": "None",
"description": "",
"help": ""
}]}
Mensuration Capabilities: Basic
Has Histograms: true
Has Colormap: false
Has Multi Dimensions : false
Rendering Rule:
Min Scale: 0
Max Scale: 0
Copyright Text:
Service Data Type: esriImageServiceDataTypeGeneric
Min Values: 0, 0, 0, 0, 0
Max Values: 209, 199, 191, 231, 255
Mean Values: 109.43239875389, 108.42056074766, 90.922533748702, 129.6246105919, 250.57300103842
Standard Deviation Values: 36.955828776241, 28.308075105815, 28.270045149772, 31.76863721041, 31.617046186852
Object ID Field:
Fields:
None
Default Mosaic Method: Center
Allowed Mosaic Methods:
SortField:
SortValue: null
Mosaic Operator: First
Default Compression Quality: 75
Default Resampling Method: Bilinear
Max Record Count: null
Max Image Height: 4100
Max Image Width: 15000
Max Download Image Count: null
Max Mosaic Image Count: null
Allow Raster Function: true
Allow Copy: true
Allow Analysis: true
Allow Compute TiePoints: false
Supports Statistics: false
Supports Advanced Queries: false
Use StandardizedQueries: true
Raster Type Infos:
Name: Raster Dataset
Description: Supports all ArcGIS Raster Datasets
Help:
Has Raster Attribute Table: false
Edit Fields Info: null
Ownership Based AccessControl For Rasters: null
Child Resources:
Info
Histograms
Statistics
Key Properties
Legend
Raster Function Infos
Supported Operations:
Export Image
Identify
Measure
Compute Histograms
Compute Statistics Histograms
Get Samples
Compute Class Statistics
Query Boundary
Compute Pixel Location
Compute Angles
Validate
Project