View In:
ArcGIS JavaScript
ArcGIS Online Map Viewer
ArcGIS Earth
ArcMap
View Footprint In:
ArcGIS Online Map Viewer
Service Description: Kansas City Photography 2022
Name: KS/Kansas_City_Photography_2022
Description: Kansas City Photography 2022
Single Fused Map Cache: false
Extent:
XMin: 2189151.0000333334
YMin: 253886.4999999351
XMax: 2280177.0000333334
YMax: 332465.9999999351
Spatial Reference: 102677
(3419)
LatestVCSWkid(0)
Initial Extent:
XMin: 2189151.0000333334
YMin: 253886.4999999351
XMax: 2280177.0000333334
YMax: 332465.9999999351
Spatial Reference: 102677
(3419)
LatestVCSWkid(0)
Full Extent:
XMin: 2189151.0000333334
YMin: 253886.4999999351
XMax: 2280177.0000333334
YMax: 332465.9999999351
Spatial Reference: 102677
(3419)
LatestVCSWkid(0)
Pixel Size X: 0.5
Pixel Size Y: 0.5
Band Count: 5
Pixel Type: U8
RasterFunction Infos: {"rasterFunctionInfos": [{
"name": "None",
"description": "",
"help": ""
}]}
Mensuration Capabilities: Basic
Has Histograms: true
Has Colormap: false
Has Multi Dimensions : false
Rendering Rule:
Min Scale: 0
Max Scale: 0
Copyright Text:
Service Data Type: esriImageServiceDataTypeGeneric
Min Values: 0, 0, 0, 0, 0
Max Values: 231, 235, 235, 217, 255
Mean Values: 72.59112797315, 69.086385524588, 61.560484459361, 76.646286297972, 160.91332263242
Standard Deviation Values: 58.878430154969, 56.480954176633, 50.894803968046, 62.295610756358, 121.782763028
Object ID Field:
Fields:
None
Default Mosaic Method: Center
Allowed Mosaic Methods:
SortField:
SortValue: null
Mosaic Operator: First
Default Compression Quality: 75
Default Resampling Method: Bilinear
Max Record Count: null
Max Image Height: 4100
Max Image Width: 15000
Max Download Image Count: null
Max Mosaic Image Count: null
Allow Raster Function: true
Allow Copy: null
Allow Analysis: null
Allow Compute TiePoints: false
Supports Statistics: false
Supports Advanced Queries: false
Use StandardizedQueries: true
Raster Type Infos:
Name: Raster Dataset
Description: Supports all ArcGIS Raster Datasets
Help:
Has Raster Attribute Table: false
Edit Fields Info: null
Ownership Based AccessControl For Rasters: null
Child Resources:
Info
Histograms
Key Properties
Legend
Raster Function Infos
Supported Operations:
Export Image
Identify
Measure
Compute Histograms
Compute Statistics Histograms
Get Samples
Compute Class Statistics
Query Boundary
Compute Pixel Location
Compute Angles
Validate
Project