View In:
ArcGIS JavaScript
ArcGIS Online Map Viewer
ArcGIS Earth
ArcMap
View Footprint In:
ArcGIS Online Map Viewer
Service Description: Leavenworth Photography 2022
Name: KS/Leavenworth_Photography_2022
Description: Leavenworth Photography 2022
Single Fused Map Cache: false
Extent:
XMin: 2105000.0
YMin: 235000.0
XMax: 2230000.0
YMax: 410000.0
Spatial Reference: 102677
(3419)
LatestVCSWkid(0)
Initial Extent:
XMin: 2105000.0
YMin: 235000.0
XMax: 2230000.0
YMax: 410000.0
Spatial Reference: 102677
(3419)
LatestVCSWkid(0)
Full Extent:
XMin: 2105000.0
YMin: 235000.0
XMax: 2230000.0
YMax: 410000.0
Spatial Reference: 102677
(3419)
LatestVCSWkid(0)
Pixel Size X: 0.5
Pixel Size Y: 0.5
Band Count: 4
Pixel Type: U8
RasterFunction Infos: {"rasterFunctionInfos": [{
"name": "None",
"description": "",
"help": ""
}]}
Mensuration Capabilities: Basic
Has Histograms: true
Has Colormap: false
Has Multi Dimensions : false
Rendering Rule:
Min Scale: 0
Max Scale: 0
Copyright Text:
Service Data Type: esriImageServiceDataTypeGeneric
Min Values: 35, 36, 30, 0
Max Values: 255, 255, 255, 255
Mean Values: 164.29669917479, 158.9703675919, 149.88484621155, 170.29107276819
Standard Deviation Values: 66.337729952201, 69.629804678491, 75.075769797737, 118.88104389882
Object ID Field:
Fields:
None
Default Mosaic Method: Center
Allowed Mosaic Methods:
SortField:
SortValue: null
Mosaic Operator: First
Default Compression Quality: 75
Default Resampling Method: Bilinear
Max Record Count: null
Max Image Height: 4100
Max Image Width: 15000
Max Download Image Count: null
Max Mosaic Image Count: null
Allow Raster Function: true
Allow Copy: true
Allow Analysis: true
Allow Compute TiePoints: false
Supports Statistics: false
Supports Advanced Queries: false
Use StandardizedQueries: true
Raster Type Infos:
Name: Raster Dataset
Description: Supports all ArcGIS Raster Datasets
Help:
Has Raster Attribute Table: false
Edit Fields Info: null
Ownership Based AccessControl For Rasters: null
Child Resources:
Info
Histograms
Statistics
Key Properties
Legend
Raster Function Infos
Supported Operations:
Export Image
Identify
Measure
Compute Histograms
Compute Statistics Histograms
Get Samples
Compute Class Statistics
Query Boundary
Compute Pixel Location
Compute Angles
Validate
Project