View In:
ArcGIS JavaScript
ArcGIS Online Map Viewer
ArcGIS Earth
ArcMap
View Footprint In:
ArcGIS Online Map Viewer
Service Description: KS/Paola_2023_Photography
Name: KS/Paola_2023_Photography
Description:
Single Fused Map Cache: false
Extent:
XMin: 2290992.0
YMin: 1955712.0
XMax: 2362271.5
YMax: 2087712.0
Spatial Reference: 102678
(3420)
LatestVCSWkid(0)
Initial Extent:
XMin: 2290992.0
YMin: 1955712.0
XMax: 2362271.5
YMax: 2087712.0
Spatial Reference: 102678
(3420)
LatestVCSWkid(0)
Full Extent:
XMin: 2290992.0
YMin: 1955712.0
XMax: 2362271.5
YMax: 2087712.0
Spatial Reference: 102678
(3420)
LatestVCSWkid(0)
Pixel Size X: 0.5
Pixel Size Y: 0.5
Band Count: 3
Pixel Type: U8
RasterFunction Infos: {"rasterFunctionInfos": [{
"name": "None",
"description": "",
"help": ""
}]}
Mensuration Capabilities: Basic
Has Histograms: true
Has Colormap: false
Has Multi Dimensions : false
Rendering Rule:
Min Scale: 0
Max Scale: 0
Copyright Text:
Service Data Type: esriImageServiceDataTypeRGB
Min Values: 0, 18, 0
Max Values: 255, 255, 255
Mean Values: 146.78682170543, 128.62558139535, 113.26002214839
Standard Deviation Values: 33.729076007264, 33.981799393201, 34.770918507632
Object ID Field:
Fields:
None
Default Mosaic Method: Center
Allowed Mosaic Methods:
SortField:
SortValue: null
Mosaic Operator: First
Default Compression Quality: 75
Default Resampling Method: Bilinear
Max Record Count: null
Max Image Height: 4100
Max Image Width: 15000
Max Download Image Count: null
Max Mosaic Image Count: null
Allow Raster Function: true
Allow Copy: true
Allow Analysis: true
Allow Compute TiePoints: false
Supports Statistics: false
Supports Advanced Queries: false
Use StandardizedQueries: true
Raster Type Infos:
Name: Raster Dataset
Description: Supports all ArcGIS Raster Datasets
Help:
Has Raster Attribute Table: false
Edit Fields Info: null
Ownership Based AccessControl For Rasters: null
Child Resources:
Info
Histograms
Statistics
Key Properties
Legend
Raster Function Infos
Supported Operations:
Export Image
Identify
Measure
Compute Histograms
Compute Statistics Histograms
Get Samples
Compute Class Statistics
Query Boundary
Compute Pixel Location
Compute Angles
Validate
Project