View In:
ArcGIS JavaScript
ArcGIS Online Map Viewer
ArcGIS Earth
ArcMap
View Footprint In:
ArcGIS Online Map Viewer
Service Description: MO/Barton_Photography_2022
Name: MO/Barton_Photography_2022
Description:
Single Fused Map Cache: false
Extent:
XMin: 355500.0
YMin: 4133300.1
XMax: 406500.0
YMax: 4170800.1
Spatial Reference: 102384
(6344)
LatestVCSWkid(0)
Initial Extent:
XMin: 355500.0
YMin: 4133300.1
XMax: 406500.0
YMax: 4170800.1
Spatial Reference: 102384
(6344)
LatestVCSWkid(0)
Full Extent:
XMin: 355500.0
YMin: 4133300.1
XMax: 406500.0
YMax: 4170800.1
Spatial Reference: 102384
(6344)
LatestVCSWkid(0)
Pixel Size X: 0.3
Pixel Size Y: 0.3
Band Count: 5
Pixel Type: U8
RasterFunction Infos: {"rasterFunctionInfos": [{
"name": "None",
"description": "",
"help": ""
}]}
Mensuration Capabilities: Basic
Has Histograms: true
Has Colormap: false
Has Multi Dimensions : false
Rendering Rule:
Min Scale: 0
Max Scale: 0
Copyright Text:
Service Data Type: esriImageServiceDataTypeGeneric
Min Values: 29, 48, 36, 28, 0
Max Values: 255, 255, 255, 255, 255
Mean Values: 133.55587557604, 130.57949308756, 103.37365591398, 171.71716589862, 238.16455453149
Standard Deviation Values: 43.375786557558, 40.232487507594, 43.303622241451, 35.338994666538, 62.767284044984
Object ID Field:
Fields:
None
Default Mosaic Method: Center
Allowed Mosaic Methods:
SortField:
SortValue: null
Mosaic Operator: First
Default Compression Quality: 75
Default Resampling Method: Bilinear
Max Record Count: null
Max Image Height: 4100
Max Image Width: 15000
Max Download Image Count: null
Max Mosaic Image Count: null
Allow Raster Function: true
Allow Copy: null
Allow Analysis: null
Allow Compute TiePoints: false
Supports Statistics: false
Supports Advanced Queries: false
Use StandardizedQueries: true
Raster Type Infos:
Name: Raster Dataset
Description: Supports all ArcGIS Raster Datasets
Help:
Has Raster Attribute Table: false
Edit Fields Info: null
Ownership Based AccessControl For Rasters: null
Child Resources:
Info
Histograms
Key Properties
Legend
Raster Function Infos
Supported Operations:
Export Image
Identify
Measure
Compute Histograms
Compute Statistics Histograms
Get Samples
Compute Class Statistics
Query Boundary
Compute Pixel Location
Compute Angles
Validate
Project