View In:
ArcGIS JavaScript
ArcGIS Online Map Viewer
ArcGIS Earth
ArcMap
View Footprint In:
ArcGIS Online Map Viewer
Service Description: MO/Cooper_Photography_2020
Name: MO/Cooper_Photography_2020
Description:
Single Fused Map Cache: false
Extent:
XMin: 1469011.6431156425
YMin: 1025224.2787360699
XMax: 1653083.9183061023
YMax: 1187481.7659196698
Spatial Reference: 102697
(102697)
LatestVCSWkid(0)
Initial Extent:
XMin: 1469011.6431156425
YMin: 1025224.2787360699
XMax: 1653083.9183061023
YMax: 1187481.7659196698
Spatial Reference: 102697
(102697)
LatestVCSWkid(0)
Full Extent:
XMin: 1469011.6431156425
YMin: 1025224.2787360699
XMax: 1653083.9183061023
YMax: 1187481.7659196698
Spatial Reference: 102697
(102697)
LatestVCSWkid(0)
Pixel Size X: 0.26019857115256606
Pixel Size Y: 0.2601985711525661
Band Count: 3
Pixel Type: U8
RasterFunction Infos: {"rasterFunctionInfos": [{
"name": "None",
"description": "",
"help": ""
}]}
Mensuration Capabilities: Basic
Has Histograms: true
Has Colormap: false
Has Multi Dimensions : false
Rendering Rule:
Min Scale: 0
Max Scale: 0
Copyright Text:
Service Data Type: esriImageServiceDataTypeRGB
Min Values: 0, 0, 0
Max Values: 241, 236, 232
Mean Values: 98.973279593969, 97.527989252127, 95.937751903269
Standard Deviation Values: 70.831426227988, 69.396986303574, 68.256047712582
Object ID Field:
Fields:
None
Default Mosaic Method: Center
Allowed Mosaic Methods:
SortField:
SortValue: null
Mosaic Operator: First
Default Compression Quality: 75
Default Resampling Method: Bilinear
Max Record Count: null
Max Image Height: 4100
Max Image Width: 15000
Max Download Image Count: null
Max Mosaic Image Count: null
Allow Raster Function: true
Allow Copy: true
Allow Analysis: true
Allow Compute TiePoints: false
Supports Statistics: false
Supports Advanced Queries: false
Use StandardizedQueries: true
Raster Type Infos:
Name: Raster Dataset
Description: Supports all ArcGIS Raster Datasets
Help:
Has Raster Attribute Table: false
Edit Fields Info: null
Ownership Based AccessControl For Rasters: null
Child Resources:
Info
Histograms
Statistics
Key Properties
Legend
Raster Function Infos
Supported Operations:
Export Image
Identify
Measure
Compute Histograms
Compute Statistics Histograms
Get Samples
Compute Class Statistics
Query Boundary
Compute Pixel Location
Compute Angles
Validate
Project