View In:
ArcGIS JavaScript
ArcGIS Online Map Viewer
ArcGIS Earth
ArcMap
View Footprint In:
ArcGIS Online Map Viewer
Service Description: MO/Excelsior_Springs_2022
Name: MO/Excelsior_Springs_2022
Description:
Single Fused Map Cache: false
Extent:
XMin: 2840000.0
YMin: 1130000.0
XMax: 2885000.0
YMax: 1180000.0
Spatial Reference: 0
(0)
LatestVCSWkid(0)
Initial Extent:
XMin: 2840000.0
YMin: 1130000.0
XMax: 2885000.0
YMax: 1180000.0
Spatial Reference: 0
(0)
LatestVCSWkid(0)
Full Extent:
XMin: 2840000.0
YMin: 1130000.0
XMax: 2885000.0
YMax: 1180000.0
Spatial Reference: 0
(0)
LatestVCSWkid(0)
Pixel Size X: 0.5
Pixel Size Y: 0.5
Band Count: 4
Pixel Type: U8
RasterFunction Infos: {"rasterFunctionInfos": [{
"name": "None",
"description": "",
"help": ""
}]}
Mensuration Capabilities: Basic
Has Histograms: true
Has Colormap: false
Has Multi Dimensions : false
Rendering Rule:
Min Scale: 0
Max Scale: 0
Copyright Text:
Service Data Type: esriImageServiceDataTypeGeneric
Min Values: 0, 0, 0, 0
Max Values: 218, 213, 209, 255
Mean Values: 107.24211502783, 100.19851576994, 84.759972170686, 221.83673469388
Standard Deviation Values: 48.623988540379, 46.170160166706, 38.897716746466, 85.639085059886
Object ID Field:
Fields:
None
Default Mosaic Method: Center
Allowed Mosaic Methods:
SortField:
SortValue: null
Mosaic Operator: First
Default Compression Quality: 75
Default Resampling Method: Bilinear
Max Record Count: null
Max Image Height: 4100
Max Image Width: 15000
Max Download Image Count: null
Max Mosaic Image Count: null
Allow Raster Function: true
Allow Copy: null
Allow Analysis: null
Allow Compute TiePoints: false
Supports Statistics: false
Supports Advanced Queries: false
Use StandardizedQueries: true
Raster Type Infos:
Name: Raster Dataset
Description: Supports all ArcGIS Raster Datasets
Help:
Has Raster Attribute Table: false
Edit Fields Info: null
Ownership Based AccessControl For Rasters: null
Child Resources:
Info
Histograms
Key Properties
Legend
Raster Function Infos
Supported Operations:
Export Image
Identify
Measure
Compute Histograms
Compute Statistics Histograms
Get Samples
Compute Class Statistics
Query Boundary
Compute Pixel Location
Compute Angles
Validate
Project