View In:
ArcGIS JavaScript
ArcGIS Online Map Viewer
ArcGIS Earth
ArcMap
View Footprint In:
ArcGIS Online Map Viewer
Service Description: MO/Johnson_Photography_2022
Name: MO/Johnson_Photography_2022
Description:
Single Fused Map Cache: false
Extent:
XMin: 2889635.9999465616
YMin: 863776.9994644127
XMax: 3077564.999946562
YMax: 1011614.999464413
Spatial Reference: 102698
(102698)
LatestVCSWkid(0)
Initial Extent:
XMin: 2889635.9999465616
YMin: 863776.9994644127
XMax: 3077564.999946562
YMax: 1011614.999464413
Spatial Reference: 102698
(102698)
LatestVCSWkid(0)
Full Extent:
XMin: 2889635.9999465616
YMin: 863776.9994644127
XMax: 3077564.999946562
YMax: 1011614.999464413
Spatial Reference: 102698
(102698)
LatestVCSWkid(0)
Pixel Size X: 0.5000000000000012
Pixel Size Y: 0.5000000000000012
Band Count: 5
Pixel Type: U8
RasterFunction Infos: {"rasterFunctionInfos": [{
"name": "None",
"description": "",
"help": ""
}]}
Mensuration Capabilities: Basic
Has Histograms: true
Has Colormap: false
Has Multi Dimensions : false
Rendering Rule:
Min Scale: 0
Max Scale: 0
Copyright Text:
Service Data Type: esriImageServiceDataTypeGeneric
Min Values: 0, 0, 0, 0, 0
Max Values: 213, 215, 211, 216, 255
Mean Values: 103.46039309113, 100.36837403216, 81.111226920786, 122.36018463371, 231.82310899345
Standard Deviation Values: 36.536002267188, 34.954966865288, 28.640711208322, 43.777653922201, 71.244673012242
Object ID Field:
Fields:
None
Default Mosaic Method: Center
Allowed Mosaic Methods:
SortField:
SortValue: null
Mosaic Operator: First
Default Compression Quality: 75
Default Resampling Method: Bilinear
Max Record Count: null
Max Image Height: 4100
Max Image Width: 15000
Max Download Image Count: null
Max Mosaic Image Count: null
Allow Raster Function: true
Allow Copy: null
Allow Analysis: null
Allow Compute TiePoints: false
Supports Statistics: false
Supports Advanced Queries: false
Use StandardizedQueries: true
Raster Type Infos:
Name: Raster Dataset
Description: Supports all ArcGIS Raster Datasets
Help:
Has Raster Attribute Table: false
Edit Fields Info: null
Ownership Based AccessControl For Rasters: null
Child Resources:
Info
Histograms
Key Properties
Legend
Raster Function Infos
Supported Operations:
Export Image
Identify
Measure
Compute Histograms
Compute Statistics Histograms
Get Samples
Compute Class Statistics
Query Boundary
Compute Pixel Location
Compute Angles
Validate
Project