View In:
ArcGIS JavaScript
ArcGIS Online Map Viewer
ArcGIS Earth
ArcMap
View Footprint In:
ArcGIS Online Map Viewer
Service Description: MO/Marion_Photography_2022
Name: MO/Marion_Photography_2022
Description:
Single Fused Map Cache: false
Extent:
XMin: 439560.0
YMin: 1392864.25
XMax: 592680.0
YMax: 1503744.0
Spatial Reference: 102696
(102696)
LatestVCSWkid(0)
Initial Extent:
XMin: 439560.0
YMin: 1392864.25
XMax: 592680.0
YMax: 1503744.0
Spatial Reference: 102696
(102696)
LatestVCSWkid(0)
Full Extent:
XMin: 439560.0
YMin: 1392864.25
XMax: 592680.0
YMax: 1503744.0
Spatial Reference: 102696
(102696)
LatestVCSWkid(0)
Pixel Size X: 0.25
Pixel Size Y: 0.25
Band Count: 3
Pixel Type: U8
RasterFunction Infos: {"rasterFunctionInfos": [{
"name": "None",
"description": "",
"help": ""
}]}
Mensuration Capabilities: Basic
Has Histograms: true
Has Colormap: false
Has Multi Dimensions : false
Rendering Rule:
Min Scale: 0
Max Scale: 0
Copyright Text:
Service Data Type: esriImageServiceDataTypeRGB
Min Values: 4, 15, 0
Max Values: 255, 255, 255
Mean Values: 181.46496969697, 157.5343030303, 132.72024242424
Standard Deviation Values: 45.373430185707, 55.962165565829, 67.251407392744
Object ID Field:
Fields:
None
Default Mosaic Method: Center
Allowed Mosaic Methods:
SortField:
SortValue: null
Mosaic Operator: First
Default Compression Quality: 75
Default Resampling Method: Bilinear
Max Record Count: null
Max Image Height: 4100
Max Image Width: 15000
Max Download Image Count: null
Max Mosaic Image Count: null
Allow Raster Function: true
Allow Copy: true
Allow Analysis: true
Allow Compute TiePoints: false
Supports Statistics: false
Supports Advanced Queries: false
Use StandardizedQueries: true
Raster Type Infos:
Name: Raster Dataset
Description: Supports all ArcGIS Raster Datasets
Help:
Has Raster Attribute Table: false
Edit Fields Info: null
Ownership Based AccessControl For Rasters: null
Child Resources:
Info
Histograms
Statistics
Key Properties
Legend
Raster Function Infos
Supported Operations:
Export Image
Identify
Measure
Compute Histograms
Compute Statistics Histograms
Get Samples
Compute Class Statistics
Query Boundary
Compute Pixel Location
Compute Angles
Validate
Project