View In:
ArcGIS JavaScript
ArcGIS Online Map Viewer
ArcGIS Earth
ArcMap
View Footprint In:
ArcGIS Online Map Viewer
Service Description: MO/Mississippi_Photography_2020_NAIP
Name: MO/Mississippi_Photography_2020_NAIP
Description:
Single Fused Map Cache: false
Extent:
XMin: 271165.2
YMin: 4048322.4000000004
XMax: 316820.4
YMax: 4111540.2
Spatial Reference: 26916
(26916)
LatestVCSWkid(0)
Initial Extent:
XMin: 271165.2
YMin: 4048322.4000000004
XMax: 316820.4
YMax: 4111540.2
Spatial Reference: 26916
(26916)
LatestVCSWkid(0)
Full Extent:
XMin: 271165.2
YMin: 4048322.4000000004
XMax: 316820.4
YMax: 4111540.2
Spatial Reference: 26916
(26916)
LatestVCSWkid(0)
Pixel Size X: 0.6000000000000002
Pixel Size Y: 0.5999999999999982
Band Count: 3
Pixel Type: U8
RasterFunction Infos: {"rasterFunctionInfos": [{
"name": "None",
"description": "",
"help": ""
}]}
Mensuration Capabilities: Basic
Has Histograms: true
Has Colormap: false
Has Multi Dimensions : false
Rendering Rule:
Min Scale: 0
Max Scale: 0
Copyright Text:
Service Data Type: esriImageServiceDataTypeRGB
Min Values: 0, 0, 0
Max Values: 233, 226, 219
Mean Values: 72.631585760518, 79.6328802589, 63.482718446602
Standard Deviation Values: 61.995224258153, 64.317844286371, 52.664980034743
Object ID Field:
Fields:
None
Default Mosaic Method: Center
Allowed Mosaic Methods:
SortField:
SortValue: null
Mosaic Operator: First
Default Compression Quality: 75
Default Resampling Method: Bilinear
Max Record Count: null
Max Image Height: 4100
Max Image Width: 15000
Max Download Image Count: null
Max Mosaic Image Count: null
Allow Raster Function: true
Allow Copy: true
Allow Analysis: true
Allow Compute TiePoints: false
Supports Statistics: false
Supports Advanced Queries: false
Use StandardizedQueries: true
Raster Type Infos:
Name: Raster Dataset
Description: Supports all ArcGIS Raster Datasets
Help:
Has Raster Attribute Table: false
Edit Fields Info: null
Ownership Based AccessControl For Rasters: null
Child Resources:
Info
Histograms
Statistics
Key Properties
Legend
Raster Function Infos
Supported Operations:
Export Image
Identify
Measure
Compute Histograms
Compute Statistics Histograms
Get Samples
Compute Class Statistics
Query Boundary
Compute Pixel Location
Compute Angles
Validate
Project