View In:
ArcGIS JavaScript
ArcGIS Online Map Viewer
ArcGIS Earth
ArcMap
View Footprint In:
ArcGIS Online Map Viewer
Service Description: MO/Sedalia_Photography_2022
Name: MO/Sedalia_Photography_2022
Description:
Single Fused Map Cache: false
Extent:
XMin: 1349568.0
YMin: 972839.9967792
XMax: 1484208.0026928
YMax: 1133880.0
Spatial Reference: 102697
(102697)
LatestVCSWkid(0)
Initial Extent:
XMin: 1349568.0
YMin: 972839.9967792
XMax: 1484208.0026928
YMax: 1133880.0
Spatial Reference: 102697
(102697)
LatestVCSWkid(0)
Full Extent:
XMin: 1349568.0
YMin: 972839.9967792
XMax: 1484208.0026928
YMax: 1133880.0
Spatial Reference: 102697
(102697)
LatestVCSWkid(0)
Pixel Size X: 0.16666667000000002
Pixel Size Y: 0.16666666999999996
Band Count: 4
Pixel Type: U8
RasterFunction Infos: {"rasterFunctionInfos": [{
"name": "None",
"description": "",
"help": ""
}]}
Mensuration Capabilities: Basic
Has Histograms: true
Has Colormap: false
Has Multi Dimensions : false
Rendering Rule:
Min Scale: 0
Max Scale: 0
Copyright Text:
Service Data Type: esriImageServiceDataTypeGeneric
Min Values: 0, 0, 0, 0
Max Values: 251, 216, 167, 255
Mean Values: 146.05559322034, 121.01016949153, 95.545762711864, 233.68
Standard Deviation Values: 48.381257341415, 40.807259635441, 31.71643065622, 66.301867243691
Object ID Field:
Fields:
None
Default Mosaic Method: Center
Allowed Mosaic Methods:
SortField:
SortValue: null
Mosaic Operator: First
Default Compression Quality: 75
Default Resampling Method: Bilinear
Max Record Count: null
Max Image Height: 4100
Max Image Width: 15000
Max Download Image Count: null
Max Mosaic Image Count: null
Allow Raster Function: true
Allow Copy: true
Allow Analysis: true
Allow Compute TiePoints: false
Supports Statistics: false
Supports Advanced Queries: false
Use StandardizedQueries: true
Raster Type Infos:
Name: Raster Dataset
Description: Supports all ArcGIS Raster Datasets
Help:
Has Raster Attribute Table: false
Edit Fields Info: null
Ownership Based AccessControl For Rasters: null
Child Resources:
Info
Histograms
Statistics
Key Properties
Legend
Raster Function Infos
Supported Operations:
Export Image
Identify
Measure
Compute Histograms
Compute Statistics Histograms
Get Samples
Compute Class Statistics
Query Boundary
Compute Pixel Location
Compute Angles
Validate
Project