View In:
ArcGIS JavaScript
ArcGIS Online Map Viewer
ArcGIS Earth
ArcMap
View Footprint In:
ArcGIS Online Map Viewer
Service Description: OK/Lincoln_2025Naip
Name: OK/Lincoln_2025Naip
Description:
Single Fused Map Cache: false
Extent:
XMin: 663350.9999999999
YMin: 3923057.9999893913
XMax: 721271.9999999999
YMax: 3986709.0
Spatial Reference: 26914
(26914)
LatestVCSWkid(0)
Initial Extent:
XMin: 663350.9999999999
YMin: 3923057.9999893913
XMax: 721271.9999999999
YMax: 3986709.0
Spatial Reference: 26914
(26914)
LatestVCSWkid(0)
Full Extent:
XMin: 663350.9999999999
YMin: 3923057.9999893913
XMax: 721271.9999999999
YMax: 3986709.0
Spatial Reference: 26914
(26914)
LatestVCSWkid(0)
Pixel Size X: 0.6
Pixel Size Y: 0.6000000001000019
Band Count: 5
Pixel Type: U8
RasterFunction Infos: {"rasterFunctionInfos": [{
"name": "None",
"description": "",
"help": ""
}]}
Mensuration Capabilities: Basic
Has Histograms: true
Has Colormap: false
Has Multi Dimensions : false
Rendering Rule:
Min Scale: 0
Max Scale: 0
Copyright Text:
Service Data Type: esriImageServiceDataTypeGeneric
Min Values: 0, 0, 0, 0, 0
Max Values: 237, 211, 181, 255, 255
Mean Values: 127.48775303644, 125.19210526316, 97.693522267206, 179.04585020243, 243.08431174089
Standard Deviation Values: 32.703824446274, 29.869780444907, 23.686831582709, 40.652825854861, 51.260267825307
Object ID Field:
Fields:
None
Default Mosaic Method: Center
Allowed Mosaic Methods:
SortField:
SortValue: null
Mosaic Operator: First
Default Compression Quality: 75
Default Resampling Method: Bilinear
Max Record Count: null
Max Image Height: 4100
Max Image Width: 15000
Max Download Image Count: null
Max Mosaic Image Count: null
Allow Raster Function: true
Allow Copy: true
Allow Analysis: true
Allow Compute TiePoints: false
Supports Statistics: false
Supports Advanced Queries: false
Use StandardizedQueries: true
Raster Type Infos:
Name: Raster Dataset
Description: Supports all ArcGIS Raster Datasets
Help:
Has Raster Attribute Table: false
Edit Fields Info: null
Ownership Based AccessControl For Rasters: null
Child Resources:
Info
Histograms
Statistics
Key Properties
Legend
Raster Function Infos
Supported Operations:
Export Image
Identify
Measure
Compute Histograms
Compute Statistics Histograms
Get Samples
Compute Class Statistics
Query Boundary
Compute Pixel Location
Compute Angles
Validate
Project