View In:
ArcGIS JavaScript
ArcGIS Online Map Viewer
ArcGIS Earth
ArcMap
View Footprint In:
ArcGIS Online Map Viewer
Service Description: OK/Lincoln_Photography_2023
Name: OK/Lincoln_Photography_2023
Description:
Single Fused Map Cache: false
Extent:
XMin: 2205768.675561391
YMin: 157432.6442789642
XMax: 2399770.256061391
YMax: 370046.39227896417
Spatial Reference: 102724
(2267)
LatestVCSWkid(0)
Initial Extent:
XMin: 2205768.675561391
YMin: 157432.6442789642
XMax: 2399770.256061391
YMax: 370046.39227896417
Spatial Reference: 102724
(2267)
LatestVCSWkid(0)
Full Extent:
XMin: 2205768.675561391
YMin: 157432.6442789642
XMax: 2399770.256061391
YMax: 370046.39227896417
Spatial Reference: 102724
(2267)
LatestVCSWkid(0)
Pixel Size X: 0.9842500000000008
Pixel Size Y: 0.9842499999999998
Band Count: 3
Pixel Type: U8
RasterFunction Infos: {"rasterFunctionInfos": [{
"name": "None",
"description": "",
"help": ""
}]}
Mensuration Capabilities: Basic
Has Histograms: true
Has Colormap: false
Has Multi Dimensions : false
Rendering Rule:
Min Scale: 0
Max Scale: 0
Copyright Text:
Service Data Type: esriImageServiceDataTypeRGB
Min Values: 0, 0, 0
Max Values: 187, 190, 173
Mean Values: 91.350404312668, 101.00038505968, 64.100885637274
Standard Deviation Values: 30.383843542762, 28.909196197812, 20.86682904688
Object ID Field:
Fields:
None
Default Mosaic Method: Center
Allowed Mosaic Methods:
SortField:
SortValue: null
Mosaic Operator: First
Default Compression Quality: 75
Default Resampling Method: Bilinear
Max Record Count: null
Max Image Height: 4100
Max Image Width: 15000
Max Download Image Count: null
Max Mosaic Image Count: null
Allow Raster Function: true
Allow Copy: null
Allow Analysis: null
Allow Compute TiePoints: false
Supports Statistics: false
Supports Advanced Queries: false
Use StandardizedQueries: true
Raster Type Infos:
Name: Raster Dataset
Description: Supports all ArcGIS Raster Datasets
Help:
Has Raster Attribute Table: false
Edit Fields Info: null
Ownership Based AccessControl For Rasters: null
Child Resources:
Info
Histograms
Key Properties
Legend
Raster Function Infos
Supported Operations:
Export Image
Identify
Measure
Compute Histograms
Compute Statistics Histograms
Get Samples
Compute Class Statistics
Query Boundary
Compute Pixel Location
Compute Angles
Validate
Project