View In:
ArcGIS JavaScript
ArcGIS Online Map Viewer
ArcGIS Earth
ArcMap
View Footprint In:
ArcGIS Online Map Viewer
Service Description: Public/Callaway_Photography_2019
Name: Public/Callaway_Photography_2019
Description:
Single Fused Map Cache: false
Extent:
XMin: 1717700
YMin: 990800
XMax: 1887700
YMax: 1178300
Spatial Reference: PROJCS["NAD_1983_2011_StatePlane_Missouri_Central_FIPS_2402_Feet",GEOGCS["GCS_NAD_1983_2011",DATUM["D_NAD_1983_2011",SPHEROID["GRS_1980",6378137.0,298.257222101]],PRIMEM["Greenwich",0.0],UNIT["Degree",0.0174532925199433]],PROJECTION["Transverse_Mercator"],PARAMETER["false_easting",1640416.666666667],PARAMETER["false_northing",0.0],PARAMETER["central_meridian",-92.5],PARAMETER["scale_factor",0.9999333333333333],PARAMETER["latitude_of_origin",35.83333333333334],UNIT["Foot_US",0.3048006096012192]]
Initial Extent:
XMin: 1717700
YMin: 990800
XMax: 1887700
YMax: 1178300
Spatial Reference: PROJCS["NAD_1983_2011_StatePlane_Missouri_Central_FIPS_2402_Feet",GEOGCS["GCS_NAD_1983_2011",DATUM["D_NAD_1983_2011",SPHEROID["GRS_1980",6378137.0,298.257222101]],PRIMEM["Greenwich",0.0],UNIT["Degree",0.0174532925199433]],PROJECTION["Transverse_Mercator"],PARAMETER["false_easting",1640416.666666667],PARAMETER["false_northing",0.0],PARAMETER["central_meridian",-92.5],PARAMETER["scale_factor",0.9999333333333333],PARAMETER["latitude_of_origin",35.83333333333334],UNIT["Foot_US",0.3048006096012192]]
Full Extent:
XMin: 1717700
YMin: 990800
XMax: 1887700
YMax: 1178300
Spatial Reference: PROJCS["NAD_1983_2011_StatePlane_Missouri_Central_FIPS_2402_Feet",GEOGCS["GCS_NAD_1983_2011",DATUM["D_NAD_1983_2011",SPHEROID["GRS_1980",6378137.0,298.257222101]],PRIMEM["Greenwich",0.0],UNIT["Degree",0.0174532925199433]],PROJECTION["Transverse_Mercator"],PARAMETER["false_easting",1640416.666666667],PARAMETER["false_northing",0.0],PARAMETER["central_meridian",-92.5],PARAMETER["scale_factor",0.9999333333333333],PARAMETER["latitude_of_origin",35.83333333333334],UNIT["Foot_US",0.3048006096012192]]
Pixel Size X: 0.5
Pixel Size Y: 0.5
Band Count: 4
Pixel Type: U8
RasterFunction Infos: {"rasterFunctionInfos": [{
"name": "None",
"description": "",
"help": ""
}]}
Mensuration Capabilities: Basic
Has Histograms: true
Has Colormap: false
Has Multi Dimensions : false
Rendering Rule:
Min Scale: 0
Max Scale: 0
Copyright Text:
Service Data Type: esriImageServiceDataTypeGeneric
Min Values: 44, 37, 20, 0
Max Values: 255, 255, 255, 255
Mean Values: 145.4825310559, 139.10908385093, 126.18581780538, 198.45949792961
Standard Deviation Values: 60.885471051025, 64.005017112882, 69.994606755441, 105.03719475966
Object ID Field:
Fields:
None
Default Mosaic Method: Center
Allowed Mosaic Methods:
SortField:
SortValue: null
Mosaic Operator: First
Default Compression Quality: 75
Default Resampling Method: Bilinear
Max Record Count: null
Max Image Height: 4100
Max Image Width: 15000
Max Download Image Count: null
Max Mosaic Image Count: null
Allow Raster Function: true
Allow Copy: true
Allow Analysis: true
Allow Compute TiePoints: false
Supports Statistics: false
Supports Advanced Queries: false
Use StandardizedQueries: true
Raster Type Infos:
Name: Raster Dataset
Description: Supports all ArcGIS Raster Datasets
Help:
Has Raster Attribute Table: false
Edit Fields Info: null
Ownership Based AccessControl For Rasters: null
Child Resources:
Info
Histograms
Statistics
Key Properties
Legend
Raster Function Infos
Supported Operations:
Export Image
Identify
Measure
Compute Histograms
Compute Statistics Histograms
Get Samples
Compute Class Statistics
Query Boundary
Compute Pixel Location
Compute Angles
Validate
Project