View In:
ArcGIS JavaScript
ArcGIS Online Map Viewer
ArcGIS Earth
ArcMap
View Footprint In:
ArcGIS Online Map Viewer
Service Description: Public/Cedar_Photography_2023
Name: Public/Cedar_Photography_2023
Description:
Single Fused Map Cache: false
Extent:
XMin: 2218655.9999999953
YMin: 588192.164026675
XMax: 2353295.836026125
YMax: 720192.000000005
Spatial Reference: 0
(0)
LatestVCSWkid(0)
Initial Extent:
XMin: 2218655.9999999953
YMin: 588192.164026675
XMax: 2353295.836026125
YMax: 720192.000000005
Spatial Reference: 0
(0)
LatestVCSWkid(0)
Full Extent:
XMin: 2218655.9999999953
YMin: 588192.164026675
XMax: 2353295.836026125
YMax: 720192.000000005
Spatial Reference: 0
(0)
LatestVCSWkid(0)
Pixel Size X: 0.16666666999999974
Pixel Size Y: 0.16666666999999996
Band Count: 4
Pixel Type: U8
RasterFunction Infos: {"rasterFunctionInfos": [{
"name": "None",
"description": "",
"help": ""
}]}
Mensuration Capabilities: Basic
Has Histograms: true
Has Colormap: false
Has Multi Dimensions : false
Rendering Rule:
Min Scale: 0
Max Scale: 0
Copyright Text:
Service Data Type: esriImageServiceDataTypeGeneric
Min Values: 43, 29, 40, 0
Max Values: 255, 255, 255, 255
Mean Values: 146.77798604603, 122.20233260439, 105.90138498386, 242.28751431844
Standard Deviation Values: 29.603701079316, 34.125485682488, 35.707708799736, 53.348495553445
Object ID Field:
Fields:
None
Default Mosaic Method: Center
Allowed Mosaic Methods:
SortField:
SortValue: null
Mosaic Operator: First
Default Compression Quality: 75
Default Resampling Method: Bilinear
Max Record Count: null
Max Image Height: 4100
Max Image Width: 15000
Max Download Image Count: null
Max Mosaic Image Count: null
Allow Raster Function: true
Allow Copy: true
Allow Analysis: true
Allow Compute TiePoints: false
Supports Statistics: false
Supports Advanced Queries: false
Use StandardizedQueries: true
Raster Type Infos:
Name: Raster Dataset
Description: Supports all ArcGIS Raster Datasets
Help:
Has Raster Attribute Table: false
Edit Fields Info: null
Ownership Based AccessControl For Rasters: null
Child Resources:
Info
Histograms
Statistics
Key Properties
Legend
Raster Function Infos
Supported Operations:
Export Image
Identify
Measure
Compute Histograms
Compute Statistics Histograms
Get Samples
Compute Class Statistics
Query Boundary
Compute Pixel Location
Compute Angles
Validate
Project